BEGIN:VCALENDAR
VERSION:2.0
PRODID:-//ChamberMaster//Event Calendar 2.0//EN
METHOD:PUBLISH
X-PUBLISHED-TTL:P1H
REFRESH-INTERVAL:P1H
CALSCALE:GREGORIAN
BEGIN:VTIMEZONE
TZID:America/New_York
BEGIN:DAYLIGHT
RRULE:FREQ=YEARLY;BYMONTH=3;BYDAY=2SU
DTSTART:20070101T000000
TZOFFSETFROM:-0500
TZOFFSETTO:-0400
TZNAME:Eastern Daylight Time
END:DAYLIGHT
BEGIN:STANDARD
RRULE:FREQ=YEARLY;BYMONTH=11;BYDAY=1SU
DTSTART:20070101T000000
TZOFFSETFROM:-0400
TZOFFSETTO:-0500
TZNAME:Eastern Standard Time
END:STANDARD
END:VTIMEZONE
BEGIN:VEVENT
DTSTART;TZID=America/New_York:20260502T110000
DTEND;TZID=America/New_York:20260502T140000
X-MICROSOFT-CDO-ALLDAYEVENT:FALSE
SUMMARY:Peninsula Pointe Flats Open House
DESCRIPTION:Peninsula Pointe Flats invites you to join them for their open house on May 2nd!\n\nCome by and be the first to tour.Raffles and light refreshments included! Your dream home awaits!
X-ALT-DESC;FMTTYPE=text/html:<!DOCTYPE html><html><head><title></title></head><body aria-disabled="false"><p><meta charset="utf-8"><meta charset="utf-8">Peninsula Pointe Flats invites you to join them for their open house on May 2nd!<br><br>Come by and be the first to tour.</p><p>Raffles and light refreshments included!&nbsp\;</p><p>Your dream home awaits!</p><p><br></p></body></html>
LOCATION:3212 Peninsula Pointe Cr E Lafayette 47909
UID:e.3863.1448501
SEQUENCE:3
DTSTAMP:20260422T195212Z
URL:https://business.greaterlafayettecommerce.com/events/Details/peninsula-pointe-flats-open-house-1715500?sourceTypeId=Hub
END:VEVENT
END:VCALENDAR
