BEGIN:VCALENDAR
VERSION:2.0
PRODID:-//ChamberMaster//Event Calendar 2.0//EN
METHOD:PUBLISH
X-PUBLISHED-TTL:P1H
REFRESH-INTERVAL:P1H
CALSCALE:GREGORIAN
BEGIN:VTIMEZONE
TZID:America/New_York
BEGIN:DAYLIGHT
RRULE:FREQ=YEARLY;BYMONTH=3;BYDAY=2SU
DTSTART:20070101T000000
TZOFFSETFROM:-0500
TZOFFSETTO:-0400
TZNAME:Eastern Daylight Time
END:DAYLIGHT
BEGIN:STANDARD
RRULE:FREQ=YEARLY;BYMONTH=11;BYDAY=1SU
DTSTART:20070101T000000
TZOFFSETFROM:-0400
TZOFFSETTO:-0500
TZNAME:Eastern Standard Time
END:STANDARD
END:VTIMEZONE
BEGIN:VEVENT
DTSTART;TZID=America/New_York:20261017T080000
DTEND;TZID=America/New_York:20261017T123000
X-MICROSOFT-CDO-ALLDAYEVENT:FALSE
SUMMARY:Farmer's Market 2026
DESCRIPTION:The Historic Lafayette Farmers Market is a vibrant community gathering where fresh\, local everything takes center stage. Held on Saturdays from May through October\, 8:00 AM to 12:30 PM\, the market takes place along 5th and Main Streets in downtown Lafayette. Strolling through\, you'll find colorful stands filled with just-picked produce\, handmade goods\, and delicious treats\, all brought to you by passionate local farmers and artisans. Live music\, friendly faces\, and the lively downtown atmosphere make it just as much about connection as it is about shopping\, perfect for a relaxed morning with friends and family.
X-ALT-DESC;FMTTYPE=text/html:<!DOCTYPE html><html><head><title></title></head><body aria-disabled="false"><p>The Historic Lafayette Farmers Market is a vibrant community gathering where fresh\, local <em>everything</em> takes center stage. Held on Saturdays from May through October\, 8:00 AM to 12:30 PM\, the market takes place along 5th and Main Streets in downtown Lafayette. Strolling through\, you&rsquo\;ll find colorful stands filled with just-picked produce\, handmade goods\, and delicious treats\, all brought to you by passionate local farmers and artisans. Live music\, friendly faces\, and the lively downtown atmosphere make it just as much about connection as it is about shopping\, perfect for a relaxed morning with friends and family. </p></body></html>
LOCATION:
UID:e.3863.1448061
SEQUENCE:3
DTSTAMP:20260422T025650Z
URL:https://business.greaterlafayettecommerce.com/events/Details/farmer-s-market-2026-1715064?sourceTypeId=Hub
END:VEVENT
END:VCALENDAR
