BEGIN:VCALENDAR
VERSION:2.0
PRODID:-//ChamberMaster//Event Calendar 2.0//EN
METHOD:PUBLISH
X-PUBLISHED-TTL:P1H
REFRESH-INTERVAL:P1H
CALSCALE:GREGORIAN
BEGIN:VTIMEZONE
TZID:America/New_York
BEGIN:DAYLIGHT
RRULE:FREQ=YEARLY;BYMONTH=3;BYDAY=2SU
DTSTART:20070101T000000
TZOFFSETFROM:-0500
TZOFFSETTO:-0400
TZNAME:Eastern Daylight Time
END:DAYLIGHT
BEGIN:STANDARD
RRULE:FREQ=YEARLY;BYMONTH=11;BYDAY=1SU
DTSTART:20070101T000000
TZOFFSETFROM:-0400
TZOFFSETTO:-0500
TZNAME:Eastern Standard Time
END:STANDARD
END:VTIMEZONE
BEGIN:VEVENT
DTSTART;TZID=America/New_York:20260505T100000
DTEND;TZID=America/New_York:20260505T130000
X-MICROSOFT-CDO-ALLDAYEVENT:FALSE
SUMMARY:Carroll County Chamber 18th Annual Women's Celebration Luncheon
DESCRIPTION:"Power & Presence: Igniting Energy\, Influence\, and Impact"The 18th Annual Women's Celebration Luncheon\, hosted by the Carroll County Chamber of Commerce\, is an inspiring event dedicated to honoring and uplifting women throughout the community. Bringing together professionals\, leaders\, and community members\, the luncheon will feature remarks from guest speaker Kathy Martin and keynote speaker Angela "Ang" Barnard\, who will share insights on leadership\, empowerment\, and personal growth. With opportunities for networking and connection\, and a focus on celebrating the achievements and impact of women across all industries\, this event offers a meaningful and energizing experience for all who attend.
X-ALT-DESC;FMTTYPE=text/html:<!DOCTYPE html><html><head><title></title></head><body aria-disabled="false"><p>&quot\;Power &amp\; Presence: Igniting Energy\, Influence\, and Impact&quot\;</p><p>The 18th Annual Women&rsquo\;s Celebration Luncheon\, hosted by the Carroll County Chamber of Commerce\, is an inspiring event dedicated to honoring and uplifting women throughout the community. Bringing together professionals\, leaders\, and community members\, the luncheon will feature remarks from guest speaker Kathy Martin and keynote speaker Angela &ldquo\;Ang&rdquo\; Barnard\, who will share insights on leadership\, empowerment\, and personal growth. With opportunities for networking and connection\, and a focus on celebrating the achievements and impact of women across all industries\, this event offers a meaningful and energizing experience for all who attend. </p></body></html>
LOCATION:9835 W US Hwy 421 Delphi
UID:e.3863.1450252
SEQUENCE:3
DTSTAMP:20260423T215904Z
URL:https://business.greaterlafayettecommerce.com/events/Details/carroll-county-chamber-18th-annual-women-s-celebration-luncheon-1717832?sourceTypeId=Hub
END:VEVENT
END:VCALENDAR
